BEGIN:VCALENDAR
VERSION:2.0
PRODID:-//Zero Tolerance Magazine - ECPv5.16.3.1//NONSGML v1.0//EN
CALSCALE:GREGORIAN
METHOD:PUBLISH
X-WR-CALNAME:Zero Tolerance Magazine
X-ORIGINAL-URL:https://www.ztmag.com
X-WR-CALDESC:Events for Zero Tolerance Magazine
BEGIN:VTIMEZONE
TZID:Europe/London
BEGIN:DAYLIGHT
TZOFFSETFROM:+0000
TZOFFSETTO:+0100
TZNAME:BST
DTSTART:20220327T010000
END:DAYLIGHT
BEGIN:STANDARD
TZOFFSETFROM:+0100
TZOFFSETTO:+0000
TZNAME:GMT
DTSTART:20221030T010000
END:STANDARD
END:VTIMEZONE
BEGIN:VEVENT
DTSTART;TZID=Europe/London:20220810T183000
DTEND;TZID=Europe/London:20220810T233000
DTSTAMP:20260425T132153
CREATED:20220731T161008Z
LAST-MODIFIED:20220731T161008Z
UID:40558-1660156200-1660174200@www.ztmag.com
SUMMARY:Uada\, Panzerfaust\, Trivax
DESCRIPTION:Isengard Promotions Presents:\nUada (USA)\nPanzerfaust (Canada)\nTrivax (The East)\n\n10th August 2022\n\nThe Electrowerkz \n\nEmail IsengardPromotions@gmail.com to buy directly without booking fees
URL:https://www.ztmag.com/events/uada-panzerfaust-trivax/
LOCATION:Elektrowerkz\, Torrens Street\, Islington\, London\, EC1V 1NQ\, United Kingdom
CATEGORIES:Gig
ATTACH;FMTTYPE=image/png:https://www.ztmag.com/files/2022/07/uada.png
END:VEVENT
END:VCALENDAR