BEGIN:VCALENDAR
VERSION:2.0
PRODID:-//Zero Tolerance Magazine - ECPv5.16.3.1//NONSGML v1.0//EN
CALSCALE:GREGORIAN
METHOD:PUBLISH
X-WR-CALNAME:Zero Tolerance Magazine
X-ORIGINAL-URL:https://www.ztmag.com
X-WR-CALDESC:Events for Zero Tolerance Magazine
BEGIN:VTIMEZONE
TZID:UTC
BEGIN:STANDARD
TZOFFSETFROM:+0000
TZOFFSETTO:+0000
TZNAME:UTC
DTSTART:20200101T000000
END:STANDARD
END:VTIMEZONE
BEGIN:VEVENT
DTSTART;TZID=UTC:20200409T080000
DTEND;TZID=UTC:20200502T233000
DTSTAMP:20260425T145223
CREATED:20191213T143419Z
LAST-MODIFIED:20200414T224439Z
UID:35498-1586419200-1588462200@www.ztmag.com
SUMMARY:CANCELLED UADA + Grift + Velnias + Solbrud
DESCRIPTION:European Tour
URL:https://www.ztmag.com/events/uada-grift-velnias-solbrud/
CATEGORIES:Tour dates
ATTACH;FMTTYPE=image/jpeg:https://www.ztmag.com/files/2019/12/UADA.jpg
END:VEVENT
END:VCALENDAR