BEGIN:VCALENDAR
VERSION:2.0
PRODID:-//Zero Tolerance Magazine - ECPv5.16.3.1//NONSGML v1.0//EN
CALSCALE:GREGORIAN
METHOD:PUBLISH
X-WR-CALNAME:Zero Tolerance Magazine
X-ORIGINAL-URL:https://www.ztmag.com
X-WR-CALDESC:Events for Zero Tolerance Magazine
BEGIN:VTIMEZONE
TZID:Europe/London
BEGIN:DAYLIGHT
TZOFFSETFROM:+0000
TZOFFSETTO:+0100
TZNAME:BST
DTSTART:20220327T010000
END:DAYLIGHT
BEGIN:STANDARD
TZOFFSETFROM:+0100
TZOFFSETTO:+0000
TZNAME:GMT
DTSTART:20221030T010000
END:STANDARD
END:VTIMEZONE
BEGIN:VEVENT
DTSTART;TZID=Europe/London:20220730T180000
DTEND;TZID=Europe/London:20220731T030000
DTSTAMP:20260425T132548
CREATED:20220729T121640Z
LAST-MODIFIED:20220729T140820Z
UID:40491-1659204000-1659236400@www.ztmag.com
SUMMARY:Sadistic Intent + Sijjin + Adorior + Necromaniac
DESCRIPTION:Sadistic Intent + Sijjin + Adorior + Necromaniac at the Electrowerkz\, Torrens Street\, in Angel\, London.\n\nSaturday 30th July. \nDoors open at 6pm. \nAn official afterparty will be held at Helgi’s Bar until 3am. \nTickets are available at £22 advance (almost out of time!) or £25 on the door. \nAdvance tickets from:\nDICE FM: link.dice.fm/h4d2615735ec\nSEETICKETS: https://www.seetickets.com/event/sadistic-intent-sijjin-adorior-necromaniac/electrowerkz/2334629
URL:https://www.ztmag.com/events/sadistic-intent-sijjin-adorior-necromaniac/
LOCATION:Elektrowerkz\, Torrens Street\, Islington\, London\, EC1V 1NQ\, United Kingdom
CATEGORIES:Gig
ATTACH;FMTTYPE=image/png:https://www.ztmag.com/files/2022/07/A3_sadistic_poster_-Edit.png
END:VEVENT
END:VCALENDAR