BEGIN:VCALENDAR
VERSION:2.0
PRODID:-//Zero Tolerance Magazine - ECPv5.16.3.1//NONSGML v1.0//EN
CALSCALE:GREGORIAN
METHOD:PUBLISH
X-WR-CALNAME:Zero Tolerance Magazine
X-ORIGINAL-URL:https://www.ztmag.com
X-WR-CALDESC:Events for Zero Tolerance Magazine
BEGIN:VTIMEZONE
TZID:UTC
BEGIN:STANDARD
TZOFFSETFROM:+0000
TZOFFSETTO:+0000
TZNAME:UTC
DTSTART:20200101T000000
END:STANDARD
END:VTIMEZONE
BEGIN:VEVENT
DTSTART;TZID=UTC:20200321T180000
DTEND;TZID=UTC:20200321T233000
DTSTAMP:20260425T144909
CREATED:20200207T124727Z
LAST-MODIFIED:20200207T124729Z
UID:35739-1584813600-1584833400@www.ztmag.com
SUMMARY:Lugubrum + Alkerdeel + Turia
DESCRIPTION:@ New River Studios\, London
URL:https://www.ztmag.com/events/lugubrum-alkerdeel-turia/
LOCATION:New River Studios\, 199 Eade Road\, Harringay Warehouse District\, London\, N4 1DN\, United Kingdom
CATEGORIES:Gig
ATTACH;FMTTYPE=image/jpeg:https://www.ztmag.com/files/2020/02/Crypt-Of-The-Wizard.jpg
END:VEVENT
END:VCALENDAR