BEGIN:VCALENDAR
VERSION:2.0
PRODID:-//Zero Tolerance Magazine - ECPv5.16.3.1//NONSGML v1.0//EN
CALSCALE:GREGORIAN
METHOD:PUBLISH
X-WR-CALNAME:Zero Tolerance Magazine
X-ORIGINAL-URL:https://www.ztmag.com
X-WR-CALDESC:Events for Zero Tolerance Magazine
BEGIN:VTIMEZONE
TZID:UTC
BEGIN:STANDARD
TZOFFSETFROM:+0000
TZOFFSETTO:+0000
TZNAME:UTC
DTSTART:20200101T000000
END:STANDARD
END:VTIMEZONE
BEGIN:VEVENT
DTSTART;TZID=UTC:20200116T080000
DTEND;TZID=UTC:20200116T170000
DTSTAMP:20260425T164254
CREATED:20191220T115509Z
LAST-MODIFIED:20191220T115509Z
UID:35555-1579161600-1579194000@www.ztmag.com
SUMMARY:ISSUE 094 ONSALE - Jan/Feb 2020 edition
DESCRIPTION:
URL:https://www.ztmag.com/events/issue-094-onsale-jan-feb-2020-edition/
CATEGORIES:Publication date
END:VEVENT
END:VCALENDAR