BEGIN:VCALENDAR
VERSION:2.0
PRODID:-//Zero Tolerance Magazine - ECPv5.16.3.1//NONSGML v1.0//EN
CALSCALE:GREGORIAN
METHOD:PUBLISH
X-WR-CALNAME:Zero Tolerance Magazine
X-ORIGINAL-URL:https://www.ztmag.com
X-WR-CALDESC:Events for Zero Tolerance Magazine
BEGIN:VTIMEZONE
TZID:UTC
BEGIN:STANDARD
TZOFFSETFROM:+0000
TZOFFSETTO:+0000
TZNAME:UTC
DTSTART:20200101T000000
END:STANDARD
END:VTIMEZONE
BEGIN:VEVENT
DTSTART;TZID=UTC:20200509T120000
DTEND;TZID=UTC:20200509T233000
DTSTAMP:20260425T150947
CREATED:20191220T112141Z
LAST-MODIFIED:20200716T144040Z
UID:35547-1589025600-1589067000@www.ztmag.com
SUMMARY:RESCHEDULED TO 2021 Incineration Fest 2020 - Bloodbath\, Tsjuder\, Vomitory & more!
DESCRIPTION:Electric Ballroom\, Underworld and Black Heart – Camden\, London
URL:https://www.ztmag.com/events/incineration-fest-2020-bloodbath-tsjuder-vomitory-more/
LOCATION:Electric Ballroom\, 184 Camden High Street\, London\, United Kingdom
CATEGORIES:Festival
ATTACH;FMTTYPE=image/jpeg:https://www.ztmag.com/files/2019/12/Incineration-Festival.jpg
END:VEVENT
END:VCALENDAR