BEGIN:VCALENDAR
VERSION:2.0
PRODID:-//Zero Tolerance Magazine - ECPv5.16.3.1//NONSGML v1.0//EN
CALSCALE:GREGORIAN
METHOD:PUBLISH
X-WR-CALNAME:Zero Tolerance Magazine
X-ORIGINAL-URL:https://www.ztmag.com
X-WR-CALDESC:Events for Zero Tolerance Magazine
BEGIN:VTIMEZONE
TZID:UTC
BEGIN:STANDARD
TZOFFSETFROM:+0000
TZOFFSETTO:+0000
TZNAME:UTC
DTSTART:20200101T000000
END:STANDARD
END:VTIMEZONE
BEGIN:VEVENT
DTSTART;TZID=UTC:20200305T190000
DTEND;TZID=UTC:20200326T223000
DTSTAMP:20260425T164506
CREATED:20191220T113637Z
LAST-MODIFIED:20191220T113637Z
UID:35551-1583434800-1585261800@www.ztmag.com
SUMMARY:Grand Magus - Wolf God European Tour
DESCRIPTION:Kicks off at The Fleece in Bristol…. Ends at Logo in Hamburg!
URL:https://www.ztmag.com/events/grand-magus-wolf-god-european-tour/
CATEGORIES:Tour dates
ATTACH;FMTTYPE=image/jpeg:https://www.ztmag.com/files/2019/12/Grand-Magus.jpg
END:VEVENT
END:VCALENDAR