BEGIN:VCALENDAR
VERSION:2.0
PRODID:-//Zero Tolerance Magazine - ECPv5.16.3.1//NONSGML v1.0//EN
CALSCALE:GREGORIAN
METHOD:PUBLISH
X-WR-CALNAME:Zero Tolerance Magazine
X-ORIGINAL-URL:https://www.ztmag.com
X-WR-CALDESC:Events for Zero Tolerance Magazine
BEGIN:VTIMEZONE
TZID:Europe/London
BEGIN:DAYLIGHT
TZOFFSETFROM:+0000
TZOFFSETTO:+0100
TZNAME:BST
DTSTART:20220327T010000
END:DAYLIGHT
BEGIN:STANDARD
TZOFFSETFROM:+0100
TZOFFSETTO:+0000
TZNAME:GMT
DTSTART:20221030T010000
END:STANDARD
END:VTIMEZONE
BEGIN:VEVENT
DTSTART;VALUE=DATE:20221105
DTEND;VALUE=DATE:20221106
DTSTAMP:20260420T133415
CREATED:20220311T115933Z
LAST-MODIFIED:20220311T115933Z
UID:40005-1667620800-1667692799@www.ztmag.com
SUMMARY:Damnation Festival 2022
DESCRIPTION:2022 installment of the UK’s Damnation Festival in its new location of Manchester’s BEC Arena. \n 
URL:https://www.ztmag.com/events/damnation-festival-2022/
LOCATION:BEC Arena\, Manchester\, Longbridge Rd\, Manchester\, M17 1SN\, United Kingdom
CATEGORIES:Festival
ATTACH;FMTTYPE=image/jpeg:https://www.ztmag.com/files/2022/03/Facebook-Damnation.jpg
END:VEVENT
END:VCALENDAR