BEGIN:VCALENDAR
VERSION:2.0
PRODID:-//Zero Tolerance Magazine - ECPv5.16.3.1//NONSGML v1.0//EN
CALSCALE:GREGORIAN
METHOD:PUBLISH
X-WR-CALNAME:Zero Tolerance Magazine
X-ORIGINAL-URL:https://www.ztmag.com
X-WR-CALDESC:Events for Zero Tolerance Magazine
BEGIN:VTIMEZONE
TZID:UTC
BEGIN:STANDARD
TZOFFSETFROM:+0000
TZOFFSETTO:+0000
TZNAME:UTC
DTSTART:20200101T000000
END:STANDARD
END:VTIMEZONE
BEGIN:VEVENT
DTSTART;TZID=UTC:20200806T120000
DTEND;TZID=UTC:20200809T233000
DTSTAMP:20260425T164628
CREATED:20191213T141918Z
LAST-MODIFIED:20200716T144000Z
UID:35492-1596715200-1597015800@www.ztmag.com
SUMMARY:Bloodstock Open Air 2020 - RESCHEDULED TO 2021
DESCRIPTION:Catton Park\, Derby
URL:https://www.ztmag.com/events/bloodstock-open-air-2020/
LOCATION:Catton Park\, Walton-on-Trent\, Derbyshire\, DE12 8LN\,\, United Kingdom
CATEGORIES:Festival
ATTACH;FMTTYPE=image/jpeg:https://www.ztmag.com/files/2019/12/3553d21b-ad13-4e74-998a-bede5f0a6295-scaled.jpg
END:VEVENT
END:VCALENDAR