BEGIN:VCALENDAR
VERSION:2.0
PRODID:-//Zero Tolerance Magazine - ECPv5.16.3.1//NONSGML v1.0//EN
CALSCALE:GREGORIAN
METHOD:PUBLISH
X-WR-CALNAME:Zero Tolerance Magazine
X-ORIGINAL-URL:https://www.ztmag.com
X-WR-CALDESC:Events for Zero Tolerance Magazine
BEGIN:VTIMEZONE
TZID:UTC
BEGIN:STANDARD
TZOFFSETFROM:+0000
TZOFFSETTO:+0000
TZNAME:UTC
DTSTART:20200101T000000
END:STANDARD
END:VTIMEZONE
BEGIN:VEVENT
DTSTART;TZID=UTC:20200110T190000
DTEND;TZID=UTC:20200110T230000
DTSTAMP:20260425T144852
CREATED:20191212T204100Z
LAST-MODIFIED:20191212T204136Z
UID:35480-1578682800-1578697200@www.ztmag.com
SUMMARY:Batushka
DESCRIPTION:London Islington Assembly Hall
URL:https://www.ztmag.com/events/batushka/
LOCATION:London Islington Assembly Hall\, Upper Street\, London\, N1 2UD\, United Kingdom
CATEGORIES:Gig
END:VEVENT
END:VCALENDAR