BEGIN:VCALENDAR
VERSION:2.0
PRODID:-//Zero Tolerance Magazine - ECPv5.16.3.1//NONSGML v1.0//EN
CALSCALE:GREGORIAN
METHOD:PUBLISH
X-WR-CALNAME:Zero Tolerance Magazine
X-ORIGINAL-URL:https://www.ztmag.com
X-WR-CALDESC:Events for Zero Tolerance Magazine
BEGIN:VTIMEZONE
TZID:UTC
BEGIN:STANDARD
TZOFFSETFROM:+0000
TZOFFSETTO:+0000
TZNAME:UTC
DTSTART:20190101T000000
END:STANDARD
END:VTIMEZONE
BEGIN:VEVENT
DTSTART;TZID=UTC:20191231T190000
DTEND;TZID=UTC:20200101T020000
DTSTAMP:20260425T145437
CREATED:20191219T131322Z
LAST-MODIFIED:20191219T131723Z
UID:35521-1577818800-1577844000@www.ztmag.com
SUMMARY:Akercocke + Lychgate + Dawn Ray'd New Year's Eve 2019!
DESCRIPTION:The Boston Music Room\, London
URL:https://www.ztmag.com/events/akercocke-lychgate-dawn-rayd-new-years-eve-2019/
LOCATION:The Boston Music Room\, 178 Junction Road\, Tufnell Park\, N19 5QQ\, United Kingdom
CATEGORIES:Gig
ATTACH;FMTTYPE=image/png:https://www.ztmag.com/files/2019/12/31.png
END:VEVENT
END:VCALENDAR